BEGIN:VCALENDAR
VERSION:2.0
PRODID:-//El Sanluquilla - ECPv6.15.20//NONSGML v1.0//EN
CALSCALE:GREGORIAN
METHOD:PUBLISH
X-ORIGINAL-URL:https://elsanluquilla.com
X-WR-CALDESC:Eventos para El Sanluquilla
REFRESH-INTERVAL;VALUE=DURATION:PT1H
X-Robots-Tag:noindex
X-PUBLISHED-TTL:PT1H
BEGIN:VTIMEZONE
TZID:UTC
BEGIN:STANDARD
TZOFFSETFROM:+0000
TZOFFSETTO:+0000
TZNAME:UTC
DTSTART:20250101T000000
END:STANDARD
END:VTIMEZONE
BEGIN:VEVENT
DTSTART;TZID=UTC:20260422T200000
DTEND;TZID=UTC:20260422T200000
DTSTAMP:20260422T122310
CREATED:20260413T192153Z
LAST-MODIFIED:20260413T192153Z
UID:10004217-1776888000-1776888000@elsanluquilla.com
SUMMARY:Triduo de la Hermandad del Rocío
DESCRIPTION:
URL:https://elsanluquilla.com/evento/triduo-de-la-hermandad-del-rocio/2026-04-22/
LOCATION:Iglesia de San Jorge\, C. San Jorge\, 3\, Sanlúcar de Barrameda\, Cádiz\, 11540\, Spain
CATEGORIES:Misas y Cultos
ATTACH;FMTTYPE=image/jpeg:https://elsanluquilla.com/wp-content/uploads/2026/04/FB_IMG_1776094009570.jpg
END:VEVENT
BEGIN:VEVENT
DTSTART;TZID=UTC:20260423T200000
DTEND;TZID=UTC:20260423T200000
DTSTAMP:20260422T122310
CREATED:20260413T192153Z
LAST-MODIFIED:20260413T192153Z
UID:10004218-1776974400-1776974400@elsanluquilla.com
SUMMARY:Triduo de la Hermandad del Rocío
DESCRIPTION:
URL:https://elsanluquilla.com/evento/triduo-de-la-hermandad-del-rocio/2026-04-23/
LOCATION:Iglesia de San Jorge\, C. San Jorge\, 3\, Sanlúcar de Barrameda\, Cádiz\, 11540\, Spain
CATEGORIES:Misas y Cultos
ATTACH;FMTTYPE=image/jpeg:https://elsanluquilla.com/wp-content/uploads/2026/04/FB_IMG_1776094009570.jpg
END:VEVENT
BEGIN:VEVENT
DTSTART;TZID=UTC:20260424T200000
DTEND;TZID=UTC:20260424T200000
DTSTAMP:20260422T122310
CREATED:20260413T192153Z
LAST-MODIFIED:20260413T192153Z
UID:10004219-1777060800-1777060800@elsanluquilla.com
SUMMARY:Triduo de la Hermandad del Rocío
DESCRIPTION:
URL:https://elsanluquilla.com/evento/triduo-de-la-hermandad-del-rocio/2026-04-24/
LOCATION:Iglesia de San Jorge\, C. San Jorge\, 3\, Sanlúcar de Barrameda\, Cádiz\, 11540\, Spain
CATEGORIES:Misas y Cultos
ATTACH;FMTTYPE=image/jpeg:https://elsanluquilla.com/wp-content/uploads/2026/04/FB_IMG_1776094009570.jpg
END:VEVENT
BEGIN:VEVENT
DTSTART;TZID=UTC:20260425T210000
DTEND;TZID=UTC:20260425T210000
DTSTAMP:20260422T122310
CREATED:20260421T153234Z
LAST-MODIFIED:20260421T153234Z
UID:10004231-1777150800-1777150800@elsanluquilla.com
SUMMARY:Función principal de la Hermandad del Rocío
DESCRIPTION:
URL:https://elsanluquilla.com/evento/funcion-principal-de-la-hermandad-del-rocio/
LOCATION:Iglesia de San Jorge\, C. San Jorge\, 3\, Sanlúcar de Barrameda\, Cádiz\, 11540\, Spain
CATEGORIES:Misas y Cultos
ATTACH;FMTTYPE=image/jpeg:https://elsanluquilla.com/wp-content/uploads/2026/04/FB_IMG_1776094009570-1.jpg
END:VEVENT
BEGIN:VEVENT
DTSTART;TZID=UTC:20260501T113000
DTEND;TZID=UTC:20260501T113000
DTSTAMP:20260422T122310
CREATED:20260421T151843Z
LAST-MODIFIED:20260421T151843Z
UID:10004227-1777635000-1777635000@elsanluquilla.com
SUMMARY:Cruz de Mayo del Rocío
DESCRIPTION:
URL:https://elsanluquilla.com/evento/cruz-de-mayo-del-rocio/
LOCATION:Casa Hermandad del Rocío\, C. San Jorge\, 3\, 11540 Sanlúcar de Barrameda\, Cádiz\, Spain
CATEGORIES:Convivencias,Procesiones
ATTACH;FMTTYPE=image/jpeg:https://elsanluquilla.com/wp-content/uploads/2026/04/FB_IMG_1776194406155.jpg
END:VEVENT
END:VCALENDAR