BEGIN:VCALENDAR
VERSION:2.0
PRODID:-//El Sanluquilla - ECPv6.15.20//NONSGML v1.0//EN
CALSCALE:GREGORIAN
METHOD:PUBLISH
X-WR-CALNAME:El Sanluquilla
X-ORIGINAL-URL:https://elsanluquilla.com
X-WR-CALDESC:Eventos para El Sanluquilla
REFRESH-INTERVAL;VALUE=DURATION:PT1H
X-Robots-Tag:noindex
X-PUBLISHED-TTL:PT1H
BEGIN:VTIMEZONE
TZID:UTC
BEGIN:STANDARD
TZOFFSETFROM:+0000
TZOFFSETTO:+0000
TZNAME:UTC
DTSTART:20240101T000000
END:STANDARD
END:VTIMEZONE
BEGIN:VEVENT
DTSTART;TZID=UTC:20260423T200000
DTEND;TZID=UTC:20260423T200000
DTSTAMP:20260424T103058
CREATED:20260413T192153Z
LAST-MODIFIED:20260413T192153Z
UID:10004218-1776974400-1776974400@elsanluquilla.com
SUMMARY:Triduo de la Hermandad del Rocío
DESCRIPTION:
URL:https://elsanluquilla.com/evento/triduo-de-la-hermandad-del-rocio/2026-04-23/
LOCATION:Iglesia de San Jorge\, C. San Jorge\, 3\, Sanlúcar de Barrameda\, Cádiz\, 11540\, Spain
CATEGORIES:Misas y Cultos
ATTACH;FMTTYPE=image/jpeg:https://elsanluquilla.com/wp-content/uploads/2026/04/FB_IMG_1776094009570.jpg
END:VEVENT
BEGIN:VEVENT
DTSTART;TZID=UTC:20260422T200000
DTEND;TZID=UTC:20260422T200000
DTSTAMP:20260424T103058
CREATED:20260413T192153Z
LAST-MODIFIED:20260413T192153Z
UID:10004217-1776888000-1776888000@elsanluquilla.com
SUMMARY:Triduo de la Hermandad del Rocío
DESCRIPTION:
URL:https://elsanluquilla.com/evento/triduo-de-la-hermandad-del-rocio/2026-04-22/
LOCATION:Iglesia de San Jorge\, C. San Jorge\, 3\, Sanlúcar de Barrameda\, Cádiz\, 11540\, Spain
CATEGORIES:Misas y Cultos
ATTACH;FMTTYPE=image/jpeg:https://elsanluquilla.com/wp-content/uploads/2026/04/FB_IMG_1776094009570.jpg
END:VEVENT
BEGIN:VEVENT
DTSTART;TZID=UTC:20260223T193000
DTEND;TZID=UTC:20260223T193000
DTSTAMP:20260424T103058
CREATED:20260118T010541Z
LAST-MODIFIED:20260118T010541Z
UID:10003583-1771875000-1771875000@elsanluquilla.com
SUMMARY:Via-Crucis oficial de la Unión de Hermandades
DESCRIPTION:
URL:https://elsanluquilla.com/evento/via-crucis-oficial-de-la-union-de-hermandades/
LOCATION:Iglesia de San Jorge\, C. San Jorge\, 3\, Sanlúcar de Barrameda\, Cádiz\, 11540\, Spain
CATEGORIES:Via-Crucis y traslados
ATTACH;FMTTYPE=image/jpeg:https://elsanluquilla.com/wp-content/uploads/2026/01/FB_IMG_1768698185563.jpg
END:VEVENT
BEGIN:VEVENT
DTSTART;TZID=UTC:20251222T200000
DTEND;TZID=UTC:20251222T200000
DTSTAMP:20260424T103058
CREATED:20251210T180324Z
LAST-MODIFIED:20251210T180324Z
UID:10003505-1766433600-1766433600@elsanluquilla.com
SUMMARY:Concierto de Navidad del Orfeón Santa Cecilia
DESCRIPTION:
URL:https://elsanluquilla.com/evento/concierto-de-navidad-del-orfeon-santa-cecilia/
LOCATION:Iglesia de San Jorge\, C. San Jorge\, 3\, Sanlúcar de Barrameda\, Cádiz\, 11540\, Spain
CATEGORIES:Conciertos
ATTACH;FMTTYPE=image/jpeg:https://elsanluquilla.com/wp-content/uploads/2025/12/FB_IMG_1765388161232.jpg
END:VEVENT
BEGIN:VEVENT
DTSTART;TZID=UTC:20251109T070000
DTEND;TZID=UTC:20251110T130000
DTSTAMP:20260424T103058
CREATED:20251023T074143Z
LAST-MODIFIED:20251023T074143Z
UID:10003313-1762671600-1762779600@elsanluquilla.com
SUMMARY:Peregrinación al Rocío
DESCRIPTION:
URL:https://elsanluquilla.com/evento/peregrinacion-al-rocio/
LOCATION:Iglesia de San Jorge\, C. San Jorge\, 3\, Sanlúcar de Barrameda\, Cádiz\, 11540\, Spain
CATEGORIES:Convivencias
ATTACH;FMTTYPE=image/jpeg:https://elsanluquilla.com/wp-content/uploads/2025/10/FB_IMG_1761204913904.jpg
END:VEVENT
BEGIN:VEVENT
DTSTART;TZID=UTC:20251107T203000
DTEND;TZID=UTC:20251107T203000
DTSTAMP:20260424T103058
CREATED:20251103T202538Z
LAST-MODIFIED:20251103T202929Z
UID:10003346-1762547400-1762547400@elsanluquilla.com
SUMMARY:Misa de Requiem de la Hermandad del Cautivo
DESCRIPTION:
URL:https://elsanluquilla.com/evento/misa-de-requiem-de-la-hermandad-del-cau/
LOCATION:Iglesia de San Jorge\, C. San Jorge\, 3\, Sanlúcar de Barrameda\, Cádiz\, 11540\, Spain
CATEGORIES:Misas y Cultos
ATTACH;FMTTYPE=image/jpeg:https://elsanluquilla.com/wp-content/uploads/2025/11/FB_IMG_1762201457646.jpg
END:VEVENT
BEGIN:VEVENT
DTSTART;TZID=UTC:20251025T210000
DTEND;TZID=UTC:20251025T210000
DTSTAMP:20260424T103058
CREATED:20251021T173732Z
LAST-MODIFIED:20251021T173732Z
UID:10003310-1761426000-1761426000@elsanluquilla.com
SUMMARY:Solemne Sabatina a la Virgen del Rocío
DESCRIPTION:
URL:https://elsanluquilla.com/evento/solemne-sabatina-a-la-virgen-del-rocio/
LOCATION:Iglesia de San Jorge\, C. San Jorge\, 3\, Sanlúcar de Barrameda\, Cádiz\, 11540\, Spain
CATEGORIES:Misas y Cultos
ATTACH;FMTTYPE=image/jpeg:https://elsanluquilla.com/wp-content/uploads/2025/10/FB_IMG_1761067388873.jpg
END:VEVENT
BEGIN:VEVENT
DTSTART;TZID=UTC:20251023T210000
DTEND;TZID=UTC:20251023T210000
DTSTAMP:20260424T103058
CREATED:20251020T120624Z
LAST-MODIFIED:20251020T120624Z
UID:10003297-1761253200-1761253200@elsanluquilla.com
SUMMARY:Adoración al Stmo. Sacramento del Altar
DESCRIPTION:
URL:https://elsanluquilla.com/evento/adoracion-al-stmo-sacramento-del-altar/
LOCATION:Iglesia de San Jorge\, C. San Jorge\, 3\, Sanlúcar de Barrameda\, Cádiz\, 11540\, Spain
CATEGORIES:Misas y Cultos
ATTACH;FMTTYPE=image/jpeg:https://elsanluquilla.com/wp-content/uploads/2025/10/FB_IMG_1760961577412.jpg
END:VEVENT
BEGIN:VEVENT
DTSTART;TZID=UTC:20250411T203000
DTEND;TZID=UTC:20250411T203000
DTSTAMP:20260424T103058
CREATED:20250408T165200Z
LAST-MODIFIED:20250408T165200Z
UID:10002842-1744403400-1744403400@elsanluquilla.com
SUMMARY:Via-Crucis del Cristo de los Barqueros
DESCRIPTION:
URL:https://elsanluquilla.com/evento/via-crucis-del-cristo-de-los-barqueros/
LOCATION:Iglesia de San Jorge\, C. San Jorge\, 3\, Sanlúcar de Barrameda\, Cádiz\, 11540\, Spain
CATEGORIES:Via-Crucis y traslados
ATTACH;FMTTYPE=image/jpeg:https://elsanluquilla.com/wp-content/uploads/2025/04/FB_IMG_1744131088883.jpg
END:VEVENT
END:VCALENDAR